BEGIN:VCALENDAR
VERSION:2.0
PRODID:-//Yadanabon University
CALSCALE:GREGORIAN
METHOD:PUBLISH
X-WR-CALNAME:Yadanabon University
X-ORIGINAL-URL:https://ydnbu.edu.mm/event/job-ready-skills/
X-WR-CALDESC:Job-Ready Skills
BEGIN:VEVENT
DTSTART:
DTEND:
SUMMARY:Job-Ready Skills
DESCRIPTION:
LOCATION:
END:VEVENT
END:VCALENDAR
